BEGIN:VCALENDAR
VERSION:2.0
PRODID:-//Tukios.com/
BEGIN:VEVENT
UID:ed92f17e-7bfa-4e42-beb9-0f2abc258078@www.jellisonfuneralhome.com
DTSTAMP:20260419T173330Z
DTSTART:20260422T143000Z
DTEND:20260422T153000Z
SUMMARY:Memorial Service
DESCRIPTION:
URL:https://www.jellisonfuneralhome.com/obituaries/bj-woody-woodward
LOCATION:Peterborough United Methodist Church 43 Concord Street  
	Peterborough NH 03458
GEO:42.8797715;-71.9465822
END:VEVENT
END:VCALENDAR