BEGIN:VCALENDAR
VERSION:2.0
PRODID:-//Tukios.com/
BEGIN:VEVENT
UID:d91a6a48-fa8e-472d-ae21-b2b4f38b456a@www.jellisonfuneralhome.com
DTSTAMP:20260421T151116Z
DTSTART:20260425T143000Z
DTEND:20260425T170000Z
SUMMARY:Visitation
DESCRIPTION:
URL:https://www.jellisonfuneralhome.com/obituaries/jennifer-labelle
LOCATION: 16 Prescott Road  Jaffrey NH 03452
GEO:42.7984618;-71.9862105
END:VEVENT
END:VCALENDAR