BEGIN:VCALENDAR
VERSION:2.0
PRODID:-//Tukios.com/
BEGIN:VEVENT
UID:489ce263-f6f2-46e1-840e-5435a3d50e86@www.jellisonfuneralhome.com
DTSTAMP:20260421T151340Z
DTSTART:20260425T170000Z
DTEND:20260425T180000Z
SUMMARY:Celebration of Life
DESCRIPTION:
URL:https://www.jellisonfuneralhome.com/obituaries/jennifer-labelle
LOCATION:Hope Fellowship Church 16 Prescott Road  Jaffrey NH 03452
GEO:42.7984618;-71.9862105
END:VEVENT
END:VCALENDAR