BEGIN:VCALENDAR
VERSION:2.0
PRODID:-//Tukios.com/
BEGIN:VEVENT
UID:5870e9b4-9210-4ed7-978f-b1921ef3f5f3@www.jellisonfuneralhome.com
DTSTAMP:20260422T204331Z
DTSTART:20260425T150000Z
DTEND:20260425T160000Z
SUMMARY:Funeral Service
DESCRIPTION:
URL:https://www.jellisonfuneralhome.com/obituaries/richard-sanderson
LOCATION:Good Shepherd Lutheran Church 280 Old Dublin Road  Peterborough 
	NH 03458
GEO:42.875367;-71.977532
END:VEVENT
END:VCALENDAR