BEGIN:VCALENDAR
VERSION:2.0
PRODID:-//Tukios.com/
BEGIN:VEVENT
UID:a330d2c6-d407-4b6d-a56a-1fe36f523a50@www.jellisonfuneralhome.com
DTSTAMP:20260422T204500Z
DTSTART:20260425T163000Z
DTEND:20260425T173000Z
SUMMARY:Burial
DESCRIPTION:
URL:https://www.jellisonfuneralhome.com/obituaries/richard-sanderson
LOCATION:  Sand Hill Road  Peterborough NH 03458
GEO:42.8941554;-71.9153779
END:VEVENT
END:VCALENDAR